BEGIN:VCALENDAR
VERSION:2.0
PRODID:-//ChamberMaster//Event Calendar 2.0//EN
METHOD:PUBLISH
X-PUBLISHED-TTL:P3D
REFRESH-INTERVAL:P3D
CALSCALE:GREGORIAN
BEGIN:VEVENT
DTSTART:20211014T230000Z
DTEND:20211015T010000Z
X-MICROSOFT-CDO-ALLDAYEVENT:FALSE
SUMMARY:Young Harris College Mu Phi Epsilon Member Recital
DESCRIPTION:This recital will feature the talents of YHC's co-ed music fraternity and will be open to the public\, and donations will be accepted at the door.
X-ALT-DESC;FMTTYPE=text/html:This recital will feature the talents of YHC&#39\;s co-ed music fraternity and will be open to the public\, and donations will be accepted at the door.
LOCATION:Glenn-McGinnis Hall Young Harris College 1 College Street Young Harris\, GA 30582
UID:e.1652.40880
SEQUENCE:3
DTSTAMP:20260419T204533Z
URL:https://tourism.golakechatuge.com/events/details/young-harris-college-mu-phi-epsilon-member-recital-40880
END:VEVENT

END:VCALENDAR
