BEGIN:VCALENDAR
VERSION:2.0
PRODID:-//ChamberMaster//Event Calendar 2.0//EN
METHOD:PUBLISH
X-PUBLISHED-TTL:P3D
REFRESH-INTERVAL:P3D
CALSCALE:GREGORIAN
BEGIN:VEVENT
DTSTART:20211023T230000Z
DTEND:20211024T013000Z
X-MICROSOFT-CDO-ALLDAYEVENT:FALSE
SUMMARY:Young Harris College Fall Choral Concert
DESCRIPTION:Both YHC's Concert Choir and Chamber Choir will perform various pieces during this concert that will be free and open to the public.
X-ALT-DESC;FMTTYPE=text/html:Both YHC&#39\;s Concert Choir and Chamber Choir will perform various pieces during this concert that will be free and open to the public.
LOCATION:Glenn-McGinnis Hall Young Harris College 1 College Street Young Harris\, GA 30582
UID:e.1652.40882
SEQUENCE:3
DTSTAMP:20260424T103135Z
URL:https://tourism.golakechatuge.com/events/details/young-harris-college-fall-choral-concert-40882
END:VEVENT

END:VCALENDAR
