BEGIN:VCALENDAR
VERSION:2.0
PRODID:-//ChamberMaster//Event Calendar 2.0//EN
METHOD:PUBLISH
X-PUBLISHED-TTL:P3D
REFRESH-INTERVAL:P3D
CALSCALE:GREGORIAN
BEGIN:VEVENT
DTSTART:20220928T230000Z
DTEND:20220929T010000Z
X-MICROSOFT-CDO-ALLDAYEVENT:FALSE
SUMMARY:YHC Every Brilliant Thing
DESCRIPTION:Every Brilliant Thing by Duncan Macmillan and Jonny Donahoe
X-ALT-DESC;FMTTYPE=text/html:Every Brilliant Thing by Duncan Macmillan and Jonny Donahoe
LOCATION:Dobbs Theater\, Goolsby Center
UID:e.1652.42675
SEQUENCE:3
DTSTAMP:20260419T230206Z
URL:https://tourism.golakechatuge.com/events/details/yhc-every-brilliant-thing-42675
END:VEVENT

END:VCALENDAR
