BEGIN:VCALENDAR
VERSION:2.0
PRODID:-//ChamberMaster//Event Calendar 2.0//EN
METHOD:PUBLISH
X-PUBLISHED-TTL:P3D
REFRESH-INTERVAL:P3D
CALSCALE:GREGORIAN
BEGIN:VEVENT
DTSTART:20211031T210000Z
DTEND:20211101T000000Z
X-MICROSOFT-CDO-ALLDAYEVENT:FALSE
SUMMARY:Trick or Treating at The Fairgrounds
DESCRIPTION:Put on your favorite Halloween costume and come trick or treat in the Village.  Local businesses and organizations will have tables set up for trick or treaters to visit during this community event hosted by The City of Hiawassee and Georgia Mountain Fairgrounds.
X-ALT-DESC;FMTTYPE=text/html:Put on your favorite Halloween costume and come trick or treat in the Village.&nbsp\; Local businesses and organizations will have tables set up for trick or treaters to visit during this community event hosted by The City of Hiawassee and Georgia Mountain Fairgrounds.
LOCATION:Georgia Mountain Fairgrounds Pioneer Village Area
UID:e.1652.41053
SEQUENCE:3
DTSTAMP:20260419T135741Z
URL:https://tourism.golakechatuge.com/events/details/trick-or-treating-at-the-fairgrounds-41053
END:VEVENT

END:VCALENDAR
