BEGIN:VCALENDAR
VERSION:2.0
PRODID:-//ChamberMaster//Event Calendar 2.0//EN
METHOD:PUBLISH
X-PUBLISHED-TTL:P3D
REFRESH-INTERVAL:P3D
CALSCALE:GREGORIAN
BEGIN:VEVENT
DTSTART:20220127T210000Z
DTEND:20220127T223000Z
X-MICROSOFT-CDO-ALLDAYEVENT:FALSE
SUMMARY:Training for Top of Georgia Speaking Contest
DESCRIPTION:Learn how to prepare and perform an informational or persuasive speech before the Top of Georgia Speaking Contest that's being held the week of March 14th to March 21st\, 2022.  This training is open to all 6th thru 12th grade students in public\, private or home schools in Towns\, Union and Clay Counties.
X-ALT-DESC;FMTTYPE=text/html:Learn how to prepare and perform an informational or persuasive speech before the Top of Georgia Speaking Contest that&#39\;s being held the week of March 14th to March 21st\, 2022.&nbsp\; This training is open to all 6th thru 12th grade students in public\, private or home schools in Towns\, Union and Clay Counties.
LOCATION:Young Harris College 1 College Street Young Harris\, GA 30582
UID:e.1652.41220
SEQUENCE:3
DTSTAMP:20260419T221741Z
URL:https://tourism.golakechatuge.com/events/details/training-for-top-of-georgia-speaking-contest-01-27-2022-41220
END:VEVENT

END:VCALENDAR
