BEGIN:VCALENDAR
VERSION:2.0
PRODID:-//ChamberMaster//Event Calendar 2.0//EN
METHOD:PUBLISH
X-PUBLISHED-TTL:P3D
REFRESH-INTERVAL:P3D
CALSCALE:GREGORIAN
BEGIN:VEVENT
DTSTART:20180920T110000Z
DTEND:20180923T200000Z
X-MICROSOFT-CDO-ALLDAYEVENT:FALSE
SUMMARY:Toyota Bassmaster Angler of the Year Tournament
DESCRIPTION:B.A.S.S. To Host Toyota Bassmaster Angler Of The Year Championship In September\n\n \n\nBIRMINGHAM\, Ala.   B.A.S.S.\, the world's largest fishing organization\, will host the Toyota Bassmaster Angler of the Year Championship\, September 20-23\, in Young Harris\, Ga. This event marks the first time B.A.S.S. has held the AOY tournament on Lake Chatuge.\n\n \n\nThe 2018 Bassmaster Elite Series culminates with the $1 million Angler of the Year Championship\, and only the Top 50 anglers in Toyota Angler of the Year (AOY) points standings after the Huk Bassmaster Elite at St. Lawrence River presented by Black Velvet (Aug. 23-26) are eligible to compete in the prestigious tournament.\n\n \n\nEarning a spot in this season-ending derby is no easy accomplishment. Participation is based upon performance   specifically\, the number of AOY points earned across the entire Bassmaster Elite Series season.\n\n \n\nIn addition to more than $1 million in prize money\, at stake are the coveted title of 2018 Toyota Bassmaster Angler of the Year and   for at least the Top 35 anglers   a berth in the 2018 "Super Bowl of Bass Fishing\," the Bassmaster Classic presented by DICK'S Sporting Goods.\n\n \n\nThe full field will compete for three days\, (Thursday\, Friday and Sunday). The Bassmaster Elite Series Outdoors Expo and Bassmaster University will take place on Saturday. The fan-appreciation day will be held in the Expo area at the Georgia Mountain Fairgrounds\, where the pros will be giving seminars\, signing autographs and engaging with fans on a personal level.\n\n \n\nFrom watching the first boats take off at 7 a.m. ET on Thursday\, Sept. 20 to the final weigh-in at the Georgia Mountain Fairgrounds on Sunday at 3:45 p.m.\, all activities are family-friendly and open to the public. \n\n \n\nSchedule of Events\n\n*All times are local and subject to change\, check Bassmaster.com for official details.\n\n \n\nThursday\, Sept. 20\n\n7 a.m.                        The full field of anglers launch on Lake Chatuge. Public launch viewing is available each day\n\n                                                from the Georgia Mountain Fairgrounds (1311 Music Hall Rd. Hiawassee\, GA)\n\n \n\n3:45 p.m.                 Official weigh-in takes place at Georgia Mountain Fairgrounds\n\n \n\nFriday\, Sept. 21\n\n7 a.m.                       The full field of anglers launch on Lake Chatuge\n\n3:45 p.m.                 Official weigh-in takes place at Georgia Mountain Fairgrounds\n\n \n\nSaturday\, Sept. 22 (No Competition)\n\n10 a.m.                        Bassmaster Elite Series Outdoors Expo with national and local vendors opens for the day\n\n11:30 a.m.                   Bassmaster University welcome with Dave Mercer and the AOY leader\n\nNoon   4 p.m.             Bassmaster University\, featuring seminars taught by Bassmaster Elite Series pros and staff.\n\n4 p.m.                          Champions Chat hosted by Dave Mercer with the Top 5 in AOY points and the Rookie of the Year\n\n                                    leader\n\n                                                                                                         \n\nSunday\, Sept. 23\n\n7 a.m.                          The anglers launch for the final day of Toyota Bassmaster Angler of the Year Championship\n\n                                     competition\n\n11 a.m.                         Bassmaster Elite Series Outdoors Expo with national and local vendors opens for the day\n\n3:45 p.m.                      Official final weigh-in for the Toyota Bassmaster Angler of the Year Championship at\n\n                                     Lake Chatuge at Georgia Mountain Fairgrounds\n\n \n\n \n\nBassmaster Elite Series Outdoors Expo activities include:\n\n	Meet and greet with celebrity Elite pros for autograph and photograph sessions\n	Free kids activities and arts and crafts vendors\n	Local vendors include: Southern Crossroads Outfitters\, Real Time Pain Relief\, Refined Forest\, The Ridges Resort on Lake Chatuge\, The Oaks Lakeside Kitchen\, Brothers at Willow Ranch\, Twisted Hickory BBQ\, Yukon Outfitters\, Sassy Bell Delights\, Noontootla Creek Farms\, Nantahala Bank and Trust\, Mahan Family Chiropractic and more\n	A chance to purchase the latest line of fishing wear from Huk Performance Fishing at their merchandise trailer.\n	Power-Pole will have several active displays and will be selling their latest products and merchandise\, as well.\n	The Berkley experience trailer   http://www.berkley-fishing.com/Berkley-experience-trailer.html \n	Buy official gear from the B.A.S.S. merchandise booth\n	Follow your favorite pros on the water with up-to-the-minute updates on BASSTrakk \n	Stop by Humminbird and Minn Kota for a Q&A session with their pro staff\n	Free boat and motor demo rides from Skeeter\, Yamaha\, Nitro\, Triton and Mercury\n	Toyota will be at the event with interactive displays and activities such as   designing your own lure and a NASCAR video game\n	And more!\n\n \n\n2018 Toyota Bassmaster Angler of the Year Championship Title and Platinum Sponsor: Toyota\n\n\n\n2018 Bassmaster Elite Series Premier Sponsors: Minn Kota\, Nitro Boats\, Power-Pole\, Skeeter Boats\, Triton Boats\, Yamaha\, Abu Garcia\, Berkley\, Huk\, Humminbird\, Mercury\n\n\n\n2018 Bassmaster Elite Series Supporting Sponsors: Phoenix Boats\, T-H Marine\, Academy Sports + Outdoors\, Carhartt\, Livingston Lures\, Lowrance\n\n\n\n2018 Bassmaster Elite Series Elite Partner: Black Velvet \n\n \n\n2018 Toyota Bassmaster Angler of the Year Championship Local Host: Towns County Chamber of Commerce\n\n\n\nAbout B.A.S.S.\n\nB.A.S.S. is the worldwide authority on bass fishing and keeper of the culture of the sport\, providing cutting edge content on bass fishing whenever\, wherever and however bass fishing fans want to use it. Headquartered in Birmingham\, Ala.\, the 500\,000-member organization's fully integrated media platforms include the industry's leading magazines (Bassmaster and B.A.S.S. Times)\, website (Bassmaster.com)\, television show (The Bassmasters on ESPN2)\, radio show (Bassmaster Radio)\, social media programs and events. For 50 years\, B.A.S.S. has been dedicated to access\, conservation and youth fishing.\n\n\n\nThe Bassmaster Tournament Trail includes the most prestigious events at each level of competition\, including the Bassmaster Elite Series\, Bass Pro Shops Bassmaster Open Series\, Academy Sports + Outdoors B.A.S.S. Nation Series presented by Magellan Outdoors\, Carhartt Bassmaster College Series presented by Bass Pro Shops\, Mossy Oak Fishing Bassmaster High School Series presented by DICK'S Sporting Goods\, Bassmaster Team Championship and the ultimate celebration of competitive fishing\, the GEICO Bassmaster Classic presented by DICK'S Sporting Goods.\n\n\n\n\n\nFor more information on the upcoming 2018 Toyota Bassmaster Angler of the Year Tournament on Lake Chatuge\, contact the Towns County Chamber of Commerce at 706-896-4966 or visit www.golakechatuge.com.
X-ALT-DESC;FMTTYPE=text/html:<strong><span style="font-family:times new roman\,serif\;"><span style="font-size:14.0pt\;">B.A.S.S</span></span></strong><span style="font-family:times new roman\,serif\;"><span style="font-size:14.0pt\;">.<strong> To Host Toyota Bassmaster Angler Of The Year Championship In September</strong></span></span><br />\n&nbsp\;<br />\n<strong><span style="font-family:times new roman\,serif\;"><span style="font-size:14.0pt\;">BIRMINGHAM\, Ala. &mdash\; </span></span></strong><span style="font-family:times new roman\,serif\;"><span style="font-size:14.0pt\;">B.A.S.S.\, the world&rsquo\;s largest fishing organization\, will host the Toyota Bassmaster Angler of the Year Championship\, September 20-23\, in Young Harris\, Ga. This event marks the first time B.A.S.S. has held the AOY tournament on Lake Chatuge.</span></span><br />\n&nbsp\;<br />\n<span style="font-family:times new roman\,serif\;"><span style="font-size:14.0pt\;">The&nbsp\;2018 Bassmaster Elite Series culminates with the $1 million Angler of the Year Championship\, and only the Top 50 anglers in Toyota Angler of the Year (AOY) points standings after the Huk Bassmaster Elite at St. Lawrence River presented by Black Velvet (Aug. 23-26) are eligible to compete in the prestigious tournament.</span></span><br />\n&nbsp\;<br />\n<span style="font-family:times new roman\,serif\;"><span style="font-size:14.0pt\;">Earning a spot in this season-ending derby is no easy accomplishment. Participation is based upon performance &mdash\; specifically\, the number of AOY points earned across the entire Bassmaster Elite Series season.</span></span><br />\n&nbsp\;<br />\n<span style="font-family:times new roman\,serif\;"><span style="font-size:14.0pt\;">In addition to more than $1 million in prize money\, at stake are the coveted title of 2018 Toyota Bassmaster Angler of the Year and &mdash\; for at least the Top 35 anglers &mdash\; a berth in the 2018 &ldquo\;Super Bowl of Bass Fishing\,&rdquo\; the Bassmaster Classic presented by DICK</span></span><span style="font-family:times new roman\,serif\;"><span style="font-size:14.0pt\;">&rsquo\;</span></span><span style="font-family:times new roman\,serif\;"><span style="font-size:14.0pt\;">S Sporting Goods.</span></span><br />\n&nbsp\;<br />\n<span style="font-family:times new roman\,serif\;"><span style="font-size:14.0pt\;">The full field will compete for three days\, (Thursday\,&nbsp\;Friday&nbsp\;and&nbsp\;Sunday). The Bassmaster Elite Series Outdoors Expo and Bassmaster University will take place&nbsp\;on Saturday. The fan-appreciation day will be held in the Expo area at the Georgia Mountain Fairgrounds\, where the pros will be giving seminars\, signing autographs and engaging with fans on a personal level.</span></span><br />\n&nbsp\;<br />\n<span style="font-family:times new roman\,serif\;"><span style="font-size:14.0pt\;">From watching the first boats take off at 7 a.m. ET on Thursday\, Sept. 20 to the final weigh-in at the Georgia Mountain Fairgrounds on Sunday at 3:45 p.m.\, all activities are family-friendly and open to the public. </span></span><br />\n&nbsp\;<br />\n<strong><u><span style="font-family:times new roman\,serif\;"><span style="font-size:11.0pt\;">Schedule of Events</span></span></u></strong><br />\n<span style="font-family:times new roman\,serif\;"><span style="font-size:11.0pt\;">*All times are local and subject to change\, check Bassmaster.com for official details.</span></span><br />\n&nbsp\;<br />\n<strong><span style="font-family:times new roman\,serif\;"><span style="font-size:11.0pt\;">Thursday\, Sept. 20</span></span></strong><br />\n<span style="font-family:times new roman\,serif\;"><span style="font-size:11.0pt\;">7 a.m. &nbsp\; &nbsp\;&nbsp\;&nbsp\;&nbsp\;&nbsp\;&nbsp\;&nbsp\;&nbsp\;&nbsp\;&nbsp\;&nbsp\;&nbsp\;&nbsp\;&nbsp\;&nbsp\;&nbsp\;&nbsp\;&nbsp\;&nbsp\;&nbsp\;&nbsp\;The full field of anglers launch on Lake Chatuge. Public launch viewing is available each day<br />\n&nbsp\;&nbsp\;&nbsp\;&nbsp\;&nbsp\;&nbsp\;&nbsp\;&nbsp\;&nbsp\;&nbsp\;&nbsp\;&nbsp\;&nbsp\;&nbsp\;&nbsp\;&nbsp\;&nbsp\;&nbsp\;&nbsp\;&nbsp\;&nbsp\;&nbsp\;&nbsp\;&nbsp\;&nbsp\;&nbsp\;&nbsp\;&nbsp\;&nbsp\;&nbsp\;&nbsp\;&nbsp\;&nbsp\;&nbsp\;&nbsp\;&nbsp\;&nbsp\;&nbsp\;&nbsp\;&nbsp\;&nbsp\;&nbsp\;&nbsp\;&nbsp\;&nbsp\;&nbsp\;&nbsp\; from the Georgia Mountain Fairgrounds (</span></span><span style="font-family:times new roman\,serif\;"><span style="font-size:10.0pt\;">1311 Music Hall Rd. Hiawassee\, GA)</span></span><br />\n&nbsp\;<br />\n<span style="font-family:times new roman\,serif\;"><span style="font-size:11.0pt\;">3:45 p.m. &nbsp\;&nbsp\;&nbsp\;&nbsp\;&nbsp\;&nbsp\;&nbsp\;&nbsp\;&nbsp\;&nbsp\;&nbsp\;&nbsp\;&nbsp\;&nbsp\;&nbsp\; Official weigh-in takes place at Georgia Mountain Fairgrounds</span></span><br />\n&nbsp\;<br />\n<strong><span style="font-family:times new roman\,serif\;"><span style="font-size:11.0pt\;">Friday\, Sept. 21</span></span></strong><br />\n<span style="font-family:times new roman\,serif\;"><span style="font-size:11.0pt\;">7 a.m. &nbsp\; &nbsp\;&nbsp\;&nbsp\;&nbsp\;&nbsp\;&nbsp\;&nbsp\;&nbsp\;&nbsp\;&nbsp\;&nbsp\; &nbsp\;&nbsp\;&nbsp\;&nbsp\;&nbsp\;&nbsp\;&nbsp\;&nbsp\;The full field of anglers launch on Lake Chatuge</span></span><br />\n<span style="font-family:times new roman\,serif\;"><span style="font-size:11.0pt\;">3:45 p.m. &nbsp\;&nbsp\;&nbsp\;&nbsp\;&nbsp\;&nbsp\;&nbsp\;&nbsp\;&nbsp\;&nbsp\;&nbsp\;&nbsp\;&nbsp\;&nbsp\;&nbsp\; Official weigh-in takes place at Georgia Mountain Fairgrounds</span></span><br />\n&nbsp\;<br />\n<strong><span style="font-family:times new roman\,serif\;"><span style="font-size:11.0pt\;">Saturday\, Sept. 22 (No Competition)</span></span></strong><br />\n<span style="font-family:times new roman\,serif\;"><span style="font-size:11.0pt\;">10 a.m.&nbsp\;&nbsp\;&nbsp\;&nbsp\;&nbsp\;&nbsp\;&nbsp\;&nbsp\;&nbsp\;&nbsp\;&nbsp\;&nbsp\;&nbsp\;&nbsp\;&nbsp\;&nbsp\;&nbsp\;&nbsp\;&nbsp\;&nbsp\;&nbsp\;&nbsp\;&nbsp\;&nbsp\;Bassmaster Elite Series Outdoors Expo with national and local vendors opens for the day<br />\n11:30 a.m.&nbsp\;&nbsp\;&nbsp\;&nbsp\;&nbsp\;&nbsp\;&nbsp\;&nbsp\;&nbsp\;&nbsp\;&nbsp\;&nbsp\;&nbsp\;&nbsp\;&nbsp\;&nbsp\;&nbsp\;&nbsp\;&nbsp\;Bassmaster University welcome with Dave Mercer and the AOY leader<br />\nNoon &ndash\; 4 p.m.&nbsp\;&nbsp\;&nbsp\;&nbsp\;&nbsp\;&nbsp\;&nbsp\;&nbsp\;&nbsp\;&nbsp\;&nbsp\;&nbsp\;&nbsp\;Bassmaster University\, featuring seminars taught by Bassmaster Elite Series pros and staff.<br />\n4 p.m.&nbsp\;&nbsp\;&nbsp\;&nbsp\;&nbsp\;&nbsp\;&nbsp\;&nbsp\;&nbsp\;&nbsp\;&nbsp\;&nbsp\;&nbsp\;&nbsp\;&nbsp\;&nbsp\;&nbsp\;&nbsp\;&nbsp\;&nbsp\;&nbsp\;&nbsp\;&nbsp\;&nbsp\;&nbsp\;&nbsp\;Champions Chat hosted by Dave Mercer with the Top 5 in AOY points and the Rookie of the Year<br />\n&nbsp\;&nbsp\;&nbsp\;&nbsp\;&nbsp\;&nbsp\;&nbsp\;&nbsp\;&nbsp\;&nbsp\;&nbsp\;&nbsp\;&nbsp\;&nbsp\;&nbsp\;&nbsp\;&nbsp\;&nbsp\;&nbsp\;&nbsp\;&nbsp\;&nbsp\;&nbsp\;&nbsp\;&nbsp\;&nbsp\;&nbsp\;&nbsp\;&nbsp\;&nbsp\;&nbsp\;&nbsp\;&nbsp\;&nbsp\;&nbsp\; leader<br />\n&nbsp\;&nbsp\;&nbsp\;&nbsp\;&nbsp\;&nbsp\;&nbsp\;&nbsp\;&nbsp\;&nbsp\;&nbsp\;&nbsp\;&nbsp\;&nbsp\;&nbsp\;&nbsp\;&nbsp\;&nbsp\;&nbsp\;&nbsp\;&nbsp\;&nbsp\;&nbsp\;&nbsp\;&nbsp\;&nbsp\;&nbsp\;&nbsp\;&nbsp\;&nbsp\;&nbsp\;&nbsp\;&nbsp\;&nbsp\;&nbsp\;&nbsp\;&nbsp\;&nbsp\;&nbsp\;&nbsp\;&nbsp\;&nbsp\;&nbsp\;&nbsp\;&nbsp\;&nbsp\;&nbsp\;&nbsp\;&nbsp\;&nbsp\;&nbsp\;&nbsp\;&nbsp\;&nbsp\;&nbsp\;&nbsp\;&nbsp\;&nbsp\;&nbsp\;&nbsp\;&nbsp\;&nbsp\;&nbsp\;&nbsp\;&nbsp\;&nbsp\;&nbsp\;&nbsp\;&nbsp\;&nbsp\;&nbsp\;&nbsp\;&nbsp\;&nbsp\;&nbsp\;&nbsp\;&nbsp\;&nbsp\;&nbsp\;&nbsp\;&nbsp\;&nbsp\;&nbsp\;&nbsp\;&nbsp\;&nbsp\;&nbsp\;&nbsp\;&nbsp\;&nbsp\;&nbsp\;&nbsp\;&nbsp\;&nbsp\;&nbsp\;&nbsp\;&nbsp\;&nbsp\;&nbsp\;&nbsp\;&nbsp\;&nbsp\;&nbsp\;&nbsp\;&nbsp\;</span></span><br />\n<strong><span style="font-family:times new roman\,serif\;"><span style="font-size:11.0pt\;">Sunday\, Sept. 23</span></span></strong><br />\n<span style="font-family:times new roman\,serif\;"><span style="font-size:11.0pt\;">7 a.m.&nbsp\;&nbsp\;&nbsp\;&nbsp\;&nbsp\;&nbsp\;&nbsp\;&nbsp\;&nbsp\;&nbsp\;&nbsp\;&nbsp\;&nbsp\;&nbsp\; &nbsp\;&nbsp\;&nbsp\;&nbsp\;&nbsp\;&nbsp\;&nbsp\;&nbsp\;&nbsp\;&nbsp\; The anglers launch for the final day of Toyota Bassmaster Angler of the Year Championship<br />\n&nbsp\;&nbsp\;&nbsp\;&nbsp\;&nbsp\;&nbsp\;&nbsp\;&nbsp\;&nbsp\;&nbsp\;&nbsp\;&nbsp\;&nbsp\;&nbsp\;&nbsp\;&nbsp\;&nbsp\;&nbsp\;&nbsp\;&nbsp\;&nbsp\;&nbsp\;&nbsp\;&nbsp\;&nbsp\;&nbsp\;&nbsp\;&nbsp\;&nbsp\;&nbsp\;&nbsp\;&nbsp\;&nbsp\;&nbsp\;&nbsp\;&nbsp\; competition<br />\n11 a.m.&nbsp\;&nbsp\;&nbsp\;&nbsp\;&nbsp\;&nbsp\;&nbsp\;&nbsp\;&nbsp\;&nbsp\;&nbsp\;&nbsp\;&nbsp\;&nbsp\;&nbsp\;&nbsp\;&nbsp\;&nbsp\;&nbsp\;&nbsp\;&nbsp\;&nbsp\;&nbsp\;&nbsp\;&nbsp\;Bassmaster Elite Series Outdoors Expo with national and local vendors opens for the day<br />\n3:45 p.m.&nbsp\;&nbsp\;&nbsp\;&nbsp\;&nbsp\;&nbsp\;&nbsp\;&nbsp\;&nbsp\;&nbsp\;&nbsp\;&nbsp\;&nbsp\;&nbsp\;&nbsp\;&nbsp\;&nbsp\;&nbsp\;&nbsp\;&nbsp\;&nbsp\;&nbsp\;Official final weigh-in for the Toyota Bassmaster Angler of the Year Championship at<br />\n&nbsp\;&nbsp\;&nbsp\;&nbsp\;&nbsp\;&nbsp\; &nbsp\;&nbsp\;&nbsp\;&nbsp\;&nbsp\;&nbsp\;&nbsp\;&nbsp\;&nbsp\;&nbsp\;&nbsp\;&nbsp\;&nbsp\;&nbsp\;&nbsp\;&nbsp\;&nbsp\;&nbsp\;&nbsp\;&nbsp\;&nbsp\;&nbsp\;&nbsp\;&nbsp\;&nbsp\;&nbsp\;&nbsp\;&nbsp\;&nbsp\;&nbsp\;Lake Chatuge at Georgia Mountain Fairgrounds</span></span><br />\n&nbsp\;<br />\n&nbsp\;<br />\n<strong><span style="font-family:times new roman\,serif\;"><span style="font-size:14.0pt\;">Bassmaster Elite Series Outdoors Expo activities include:</span></span></strong>\n<ul>\n	<li><span style="font-family:times new roman\,serif\;"><span style="font-size:14.0pt\;">Meet and greet with celebrity Elite pros for autograph and photograph sessions</span></span></li>\n	<li><span style="font-family:times new roman\,serif\;"><span style="font-size:14.0pt\;">Free <span style="background:white\;">kids activities and arts and crafts vendors</span></span></span></li>\n	<li><span style="background:white\;"><span style="font-family:times new roman\,serif\;"><span style="font-size:14.0pt\;">Local vendors include: Southern Crossroads Outfitters\, Real Time Pain Relief\, Refined Forest\, The Ridges Resort on Lake Chatuge\, The Oaks Lakeside Kitchen\, Brothers at Willow Ranch\, Twisted Hickory BBQ\, Yukon Outfitters\, Sassy Bell Delights\, Noontootla Creek Farms\, Nantahala Bank and Trust\, Mahan Family Chiropractic and more</span></span></span></li>\n	<li><span style="font-family:times new roman\,serif\;"><span style="font-size:14.0pt\;">A chance to purchase the latest line of fishing wear from Huk Performance Fishing at their&nbsp\;merchandise trailer.</span></span></li>\n	<li><span style="font-family:times new roman\,serif\;"><span style="font-size:14.0pt\;">Power-Pole will have several active displays and will be selling their latest products and merchandise\, as well.</span></span></li>\n	<li><span style="font-family:times new roman\,serif\;"><span style="font-size:14.0pt\;">The&nbsp\;Berkley experience trailer &mdash\;&nbsp\;<u><a href="http://www.berkley-fishing.com/Berkley-experience-trailer.html" target="_blank"><span style="color:windowtext\;">http://www.berkley-fishing.com/Berkley-experience-trailer.html</span></a></u>&nbsp\;</span></span></li>\n	<li><span style="font-family:times new roman\,serif\;"><span style="font-size:14.0pt\;">Buy official gear from the B.A.S.S. merchandise booth</span></span></li>\n	<li><span style="font-family:times new roman\,serif\;"><span style="font-size:14.0pt\;">Follow your favorite pros&nbsp\;on the water with up-to-the-minute updates on BASSTrakk&nbsp\;</span></span></li>\n	<li><span style="font-family:times new roman\,serif\;"><span style="font-size:14.0pt\;">Stop by Humminbird and Minn Kota for a Q&amp\;A session with their pro staff</span></span></li>\n	<li><span style="font-family:times new roman\,serif\;"><span style="font-size:14.0pt\;">Free boat and motor demo rides from Skeeter\, Yamaha\, Nitro\, Triton and Mercury</span></span></li>\n	<li><span style="font-family:times new roman\,serif\;"><span style="font-size:14.0pt\;">Toyota will be at the event with interactive displays and activities such as &mdash\;&nbsp\;designing your own lure and a NASCAR video game</span></span></li>\n	<li><span style="font-family:times new roman\,serif\;"><span style="font-size:14.0pt\;">And more!</span></span></li>\n</ul>\n&nbsp\;<br />\n<strong><span style="color:black\;"><span style="font-size:14.0pt\;">2018 Toyota Bassmaster Angler of the Year Championship&nbsp\;Title and Platinum&nbsp\;Sponsor:</span></span></strong>&nbsp\;<span style="color:black\;"><span style="font-family:times new roman\,serif\;"><span style="font-size:14.0pt\;">Toyota<br />\n<br />\n<strong>2018 Bassmaster Elite Series Premier Sponsors:&nbsp\;</strong>Minn Kota\,&nbsp\;Nitro Boats\,&nbsp\;Power-Pole\,&nbsp\;Skeeter Boats\, Triton Boats\, Yamaha\,&nbsp\;Abu Garcia\,&nbsp\;Berkley\,&nbsp\;Huk\,&nbsp\;Humminbird\,&nbsp\;Mercury<br />\n<br />\n<strong>2018 Bassmaster Elite Series Supporting Sponsors:</strong>&nbsp\;Phoenix Boats\,&nbsp\;T-H Marine\,&nbsp\;Academy Sports + Outdoors\,&nbsp\;Carhartt\,&nbsp\;Livingston Lures\,&nbsp\;Lowrance<br />\n<br />\n<strong>2018 Bassmaster Elite Series Elite Partner:&nbsp\;</strong>Black Velvet&nbsp\;</span></span></span><br />\n&nbsp\;<br />\n<strong><span style="color:black\;"><span style="font-family:times new roman\,serif\;"><span style="font-size:14.0pt\;">2018 Toyota Bassmaster Angler of the Year Championship Local Host:</span></span></span></strong><span style="color:black\;"><span style="font-family:times new roman\,serif\;"><span style="font-size:14.0pt\;"> Towns County Chamber of Commerce<br />\n<br />\n<strong>About B.A.S.S.</strong><br />\nB.A.S.S. is the worldwide authority on bass fishing and keeper of the culture of the sport\, providing cutting edge content on bass fishing whenever\, wherever and however bass fishing fans want to use it. Headquartered in Birmingham\, Ala.\, the 500\,000-member organization&rsquo\;s fully integrated media platforms include the industry&rsquo\;s leading magazines (<em>Bassmaster</em>&nbsp\;and&nbsp\;<em>B.A.S.S. Times</em>)\, website (<span style="color:black\;"><a href="https://bassmaster.us6.list-manage.com/track/click?u=3ed828fc1c832c2f4be76ac97&amp\;id=2a5564ebc1&amp\;e=bc157dc6eb" target="_blank"><span style="color:black\;">Bassmaster.com</span></a></span></span>)\, television show (<em>The Bassmasters</em>&nbsp\;on ESPN2)\, radio show (Bassmaster Radio)\, social media programs and events. For 50 years\, B.A.S.S. has been dedicated to access\, conservation and youth fishing.<br />\n<br />\nThe Bassmaster Tournament Trail includes the most prestigious events at each level of competition\, including the Bassmaster Elite Series\, Bass Pro Shops Bassmaster Open Series\, Academy Sports + Outdoors&nbsp\;B.A.S.S. Nation Series presented by Magellan Outdoors\, Carhartt Bassmaster College Series presented by Bass Pro Shops\, Mossy Oak Fishing Bassmaster High School Series presented by DICK&rsquo\;S Sporting Goods\, Bassmaster Team Championship and the ultimate celebration of competitive fishing\, the GEICO Bassmaster Classic presented by DICK&rsquo\;S Sporting Goods.</span></span><br />\n<br />\n<br />\n<span style="color:black\;"><span style="font-family:times new roman\,serif\;"><span style="font-size:14.0pt\;">For more information on the upcoming 2018 Toyota Bassmaster Angler of the Year Tournament on Lake Chatuge\, contact the Towns County Chamber of Commerce at 706-896-4966 or visit </span></span></span><span style="font-family:times new roman\,serif\;"><span style="font-size:14.0pt\;"><a href="http://www.golakechatuge.com/">www.golakechatuge.com</a></span></span><span style="color:black\;"><span style="font-family:times new roman\,serif\;"><span style="font-size:14.0pt\;">.</span></span></span>
LOCATION:Lake Chatuge Georgia Mountain Fairgrounds 1311 Music Hall Rd Hiawassee\, GA 30546
UID:e.1652.31595
SEQUENCE:3
DTSTAMP:20260421T105557Z
URL:https://tourism.golakechatuge.com/events/details/toyota-bassmaster-angler-of-the-year-tournament-31595
END:VEVENT

END:VCALENDAR
