BEGIN:VCALENDAR
VERSION:2.0
PRODID:-//ChamberMaster//Event Calendar 2.0//EN
METHOD:PUBLISH
X-PUBLISHED-TTL:P3D
REFRESH-INTERVAL:P3D
CALSCALE:GREGORIAN
BEGIN:VEVENT
DTSTART:20240509T113000Z
DTEND:20240509T210000Z
X-MICROSOFT-CDO-ALLDAYEVENT:FALSE
SUMMARY:Top of Georgia Plein Aire Festival
DESCRIPTION:Plein air artists from all over the southeast will be competing for $2\,000 + in awards.  The public is invited to come and watch the artists as they paint in beautiful Hamilton Gardens\, views of Lake Chatuge\, or any thing that might strike a creative chord.  Saturday afternoon\, judging will take place with the awarding of prizes\, then the Artists' Gallery will be open for viewing.
X-ALT-DESC;FMTTYPE=text/html:<span style="color:black"><span style="font-size:12.0pt">Plein air artists from all over the southeast will be competing for $2\,000 + in awards.&nbsp\; The public is invited to come and watch the artists as they paint in beautiful Hamilton Gardens\, views of Lake Chatuge\, or any thing that might strike a creative chord.&nbsp\; Saturday afternoon\, judging will take place with the awarding of prizes\, then the Artists&#39\; Gallery will be open for viewing.</span></span>
LOCATION:Georgia Mountain Fairgrounds\, Hiawassee
UID:e.1652.44877
SEQUENCE:3
DTSTAMP:20260421T022246Z
URL:https://tourism.golakechatuge.com/events/details/top-of-georgia-plein-aire-festival-44877
END:VEVENT

END:VCALENDAR
