BEGIN:VCALENDAR
VERSION:2.0
PRODID:-//ChamberMaster//Event Calendar 2.0//EN
METHOD:PUBLISH
X-PUBLISHED-TTL:P3D
REFRESH-INTERVAL:P3D
CALSCALE:GREGORIAN
BEGIN:VEVENT
DTSTART:20240517T160000Z
DTEND:20240517T160000Z
X-MICROSOFT-CDO-ALLDAYEVENT:FALSE
SUMMARY:Tiki Hut Summer 2024 Grand Opening!
DESCRIPTION:Join us Friday\, May 17th from 5pm-8pm for our Tiki Hut Summer 2024 Grand Opening! \n\n\n\nTo kick off the Summer 2024 season off at Tiki Hut\, we will have live music from Corey Hancock playing on the Marina Station patio and a vendor from Surfside Vodka providing samples and free swag! Gather your friends and come enjoy some free samples\, drinks\, snacks and live music to get the summer started! \n\n\n\n*Weather Permitting
X-ALT-DESC;FMTTYPE=text/html:Join us Friday\, May 17th from 5pm-8pm for our Tiki Hut Summer 2024 Grand Opening!&nbsp\;<br />\n<br />\nTo kick off the Summer 2024 season off at Tiki Hut\, we will have live music from Corey Hancock playing on the Marina Station patio and a vendor from Surfside Vodka providing samples and free swag! Gather your friends and come enjoy some free samples\, drinks\, snacks and live music to get the summer started!&nbsp\;<br />\n<br />\n*Weather Permitting&nbsp\;
LOCATION:Marina Station 3399 US Highway 76 Hiawassee\, GA 30546
UID:e.1652.46304
SEQUENCE:3
DTSTAMP:20260421T021943Z
URL:https://tourism.golakechatuge.com/events/details/tiki-hut-summer-2024-grand-opening-46304
END:VEVENT

END:VCALENDAR
