BEGIN:VCALENDAR
VERSION:2.0
PRODID:-//ChamberMaster//Event Calendar 2.0//EN
METHOD:PUBLISH
X-PUBLISHED-TTL:P3D
REFRESH-INTERVAL:P3D
CALSCALE:GREGORIAN
BEGIN:VEVENT
DTSTART:20240517T233000Z
DTEND:20240518T010000Z
X-MICROSOFT-CDO-ALLDAYEVENT:FALSE
SUMMARY:The Outsider: A Comedy by Paul Slade Smith
DESCRIPTION:"There is no doubt about it. The Outsider is one of the funniest shows you will see this year." - Let's Go to the Theatre "An insightful\, witty satire about modern American politics. Funny\, timely and - dare we say - entirely possible." - Broadway World A hilarious comedy about a "just the facts\, Ma'am" sort of accountant/Lieutenant Governor who just wants to do his job and not be trapped into what he thinks of as "politics." But when his boss has to resign due to a sex scandal\, he is forced into becoming governor - a job he doesn't want. He can't even succeed at the ordinary task of being sworn-in without mumbling and stumbling! So how does his Chief of Staff\, who knows his amazing math abilities and his ability to solve budgetary problems\, convince this hapless "worst candidate ever" to remain governor\, especially since his poll numbers are atrociously bad? Assemble a supportive team! A temp who's totally clueless\; a reporter who's been told not to ask any difficult questions\; a political consultant who's in it to build his reputation. Silliness\, slyness\, savvy solutions abound\, and you need to join in the fun at the Peacock!
X-ALT-DESC;FMTTYPE=text/html:&quot\;There is no doubt about it. The Outsider is one of the funniest shows you will see this year.&quot\; - Let&#39\;s Go to the Theatre &quot\;An insightful\, witty satire about modern American politics. Funny\, timely and - dare we say - entirely possible.&quot\; - Broadway World A hilarious comedy about a &quot\;just the facts\, Ma&#39\;am&quot\; sort of accountant/Lieutenant Governor who just wants to do his job and not be trapped into what he thinks of as &quot\;politics.&rdquo\; But when his boss has to resign due to a sex scandal\, he is forced into becoming governor - a job he doesn&#39\;t want. He can&#39\;t even succeed at the ordinary task of being sworn-in without mumbling and stumbling! So how does his Chief of Staff\, who knows his amazing math abilities and his ability to solve budgetary problems\, convince this hapless &quot\;worst candidate ever&quot\; to remain governor\, especially since his poll numbers are atrociously bad? Assemble a supportive team! A temp who&#39\;s totally clueless\; a reporter who&#39\;s been told not to ask any difficult questions\; a political consultant who&#39\;s in it to build his reputation. Silliness\, slyness\, savvy solutions abound\, and you need to join in the fun at the Peacock!
LOCATION:PEACOCK PERFORMING ARTS CENTER 301 Church Street Hayesville\, NC 28904
UID:e.1652.46296
SEQUENCE:3
DTSTAMP:20260421T022106Z
URL:https://tourism.golakechatuge.com/events/details/the-outsider-a-comedy-by-paul-slade-smith-05-17-2024-46296
END:VEVENT

END:VCALENDAR
