BEGIN:VCALENDAR
VERSION:2.0
PRODID:-//ChamberMaster//Event Calendar 2.0//EN
METHOD:PUBLISH
X-PUBLISHED-TTL:P3D
REFRESH-INTERVAL:P3D
CALSCALE:GREGORIAN
BEGIN:VEVENT
DTSTART:20211011T220000Z
DTEND:20211011T233000Z
X-MICROSOFT-CDO-ALLDAYEVENT:FALSE
SUMMARY:The Old Rock Jail Museum(A Recap: 2018-2021)
DESCRIPTION:Learn more about The Old Rock Jail Museum during this free and open to the public presentation by Towns County Historical Society Officers recapping the last four years of activity.
X-ALT-DESC;FMTTYPE=text/html:Learn more about The Old Rock Jail Museum during this free and open to the public presentation by Towns County Historical Society Officers recapping the last four years of activity.
LOCATION:Towns County Civic Center 67 Lakeview Circle Hiawassee\, GA 30546 (Located Next To The Courthouse in Downtown Hiawassee)
UID:e.1652.41027
SEQUENCE:3
DTSTAMP:20260419T204757Z
URL:https://tourism.golakechatuge.com/events/details/the-old-rock-jail-museum-a-recap-2018-2021-41027
END:VEVENT

END:VCALENDAR
