BEGIN:VCALENDAR
VERSION:2.0
PRODID:-//ChamberMaster//Event Calendar 2.0//EN
METHOD:PUBLISH
X-PUBLISHED-TTL:P3D
REFRESH-INTERVAL:P3D
CALSCALE:GREGORIAN
BEGIN:VEVENT
DTSTART:20240502T220000Z
DTEND:20240503T010000Z
X-MICROSOFT-CDO-ALLDAYEVENT:FALSE
SUMMARY:The Concerts at Eller Holler
DESCRIPTION:Enjoy an evening in Eller Holler at the Georgia Mountain Fairgrounds! There will be craft vendors\, food court\, & talented musicians. Thursdays April 25th - May 23rd from 6pm-9pm! Admission is $10.00. \n\n\n\nThe event is rain or shine. Alcoholic Beverages will be available. Please bring a chair or blanket.
X-ALT-DESC;FMTTYPE=text/html:<span style="font-size:12.0pt">Enjoy an evening in Eller Holler at the Georgia Mountain Fairgrounds! There will be craft vendors\, food court\, &amp\; talented musicians. Thursdays April 25<sup>th</sup> - May 23<sup>rd</sup> from 6pm-9pm! Admission is $10.00.&nbsp\;</span><br />\n<br />\n<span style="font-size:12.0pt">The event is rain or shine. Alcoholic Beverages will be available. Please bring a chair or blanket. </span>
LOCATION:Eller Holler at Georgia Mountain Fairgrounds
UID:e.1652.44870
SEQUENCE:3
DTSTAMP:20260421T022135Z
URL:https://tourism.golakechatuge.com/events/details/the-concerts-at-eller-holler-05-02-2024-44870
END:VEVENT

END:VCALENDAR
