BEGIN:VCALENDAR
VERSION:2.0
PRODID:-//ChamberMaster//Event Calendar 2.0//EN
METHOD:PUBLISH
X-PUBLISHED-TTL:P3D
REFRESH-INTERVAL:P3D
CALSCALE:GREGORIAN
BEGIN:VEVENT
DTSTART:20230325T183000Z
DTEND:20230325T203000Z
X-MICROSOFT-CDO-ALLDAYEVENT:FALSE
SUMMARY:Seussical the Musical
DESCRIPTION:"Oh\, the thinks you can think" when Dr. Seuss' best-loved characters collide and cavort in an unforgettable musical caper! Seussical is a fantastical\, magical\, musical extravaganza which lovingly brings to life all of literature's favorite Dr. Seuss characters. The Cat in the Hat tells the story of Horton\, an elephant who discovers a speck of dust that contains the land of the Whos\, including Jojo\, a child with an often troublesome imagination. Horton faces a double challenge: not only must he protect the Whos from a world of naysayers and dangers\, but he must guard an abandoned egg\, left in his care by the irresponsible Mayzie La Bird. Although Horton faces ridicule\, danger\, kidnapping and a trial\, the intrepid Gertrude McFuzz never loses faith in him. Ultimately\, the powers of friendship\, loyalty\, family and community are challenged and emerge triumphant\, all to the sounds of an award-winning Broadway score. \n\nApproximately one hour in length. Presented by the Overlook Theatre Company.\n\nSponsored by the Arts Council Of Macon County
X-ALT-DESC;FMTTYPE=text/html:<p>&ldquo\;Oh\, the thinks you can think&rdquo\; when Dr. Seuss&rsquo\; best-loved characters collide and cavort in an unforgettable musical caper! Seussical is a fantastical\, magical\, musical extravaganza which lovingly brings to life all of literature&rsquo\;s favorite Dr. Seuss characters. The Cat in the Hat tells the story of Horton\, an elephant who discovers a speck of dust that contains the land of the Whos\, including Jojo\, a child with an often troublesome imagination. Horton faces a double challenge: not only must he protect the Whos from a world of naysayers and dangers\, but he must guard an abandoned egg\, left in his care by the irresponsible Mayzie La Bird. Although Horton faces ridicule\, danger\, kidnapping and a trial\, the intrepid Gertrude McFuzz never loses faith in him. Ultimately\, the powers of friendship\, loyalty\, family and community are challenged and emerge triumphant\, all to the sounds of an award-winning Broadway score.&nbsp\;</p>\n\n<p>Approximately one hour in length. Presented by the Overlook Theatre Company.</p>\n\n<p>Sponsored by the Arts Council Of Macon County</p>\n
LOCATION:Smoky Mountain Center for the Performing Arts 1028 Georgia Road Franklin\, NC 28734
UID:e.1652.42947
SEQUENCE:3
DTSTAMP:20260421T055833Z
URL:https://tourism.golakechatuge.com/events/details/seussical-the-musical-03-25-2023-42947
END:VEVENT

END:VCALENDAR
