BEGIN:VCALENDAR
VERSION:2.0
PRODID:-//ChamberMaster//Event Calendar 2.0//EN
METHOD:PUBLISH
X-PUBLISHED-TTL:P3D
REFRESH-INTERVAL:P3D
CALSCALE:GREGORIAN
BEGIN:VEVENT
DTSTART:20210911T230000Z
DTEND:20210912T000000Z
X-MICROSOFT-CDO-ALLDAYEVENT:FALSE
SUMMARY:On a Dream & A Wish: A Royal Celebration
DESCRIPTION:BACK BY POPULAR DEMAND!\n\nYou are cordially invited to the coronation of Queen Cinderella.  All the heroes and princesses of the land are joining together to celebrate with stories\, songs and gifts.  But beware\, a few jealous villains are upset about not being invited and might try to crash the party. Come dressed as your favorite hero or princess and join in the opening parade\, festivities and a dance party finale. This event will take place outdoors.  Patrons are encouraged to bring lawn chairs to sit near the elevated stage. Concessions will be available for purchase. In the event of rain\, this event will be moved indoors.  Please watch the theatre website for updates.
X-ALT-DESC;FMTTYPE=text/html:<span style="color:rgb(102\, 102\, 102)\; font-family:open sans\,arial\,sans-serif\; font-size:14px">BACK BY POPULAR DEMAND!</span><br />\n<span style="color:rgb(102\, 102\, 102)\; font-family:open sans\,arial\,sans-serif\; font-size:14px">You are cordially invited to the coronation of Queen Cinderella.</span><span style="color:rgb(102\, 102\, 102)\; font-family:open sans\,arial\,sans-serif\; font-size:14px">&nbsp\;&nbsp\;</span><span style="color:rgb(102\, 102\, 102)\; font-family:open sans\,arial\,sans-serif\; font-size:14px">All the heroes and princesses of the land are joining together to celebrate with stories\, songs and gifts.</span><span style="color:rgb(102\, 102\, 102)\; font-family:open sans\,arial\,sans-serif\; font-size:14px">&nbsp\;&nbsp\;</span><span style="color:rgb(102\, 102\, 102)\; font-family:open sans\,arial\,sans-serif\; font-size:14px">But beware\, a few jealous villains are upset about not being invited and might try to crash the party. Come dressed as your favorite hero or princess and join in the opening parade\, festivities and a dance party finale. This event will take place outdoors.</span><span style="color:rgb(102\, 102\, 102)\; font-family:open sans\,arial\,sans-serif\; font-size:14px">&nbsp\;&nbsp\;</span><span style="color:rgb(102\, 102\, 102)\; font-family:open sans\,arial\,sans-serif\; font-size:14px">Patrons are encouraged to bring lawn chairs to sit near the elevated stage. Concessions will be available for purchase. In the event of rain\, this event will be moved indoors.</span><span style="color:rgb(102\, 102\, 102)\; font-family:open sans\,arial\,sans-serif\; font-size:14px">&nbsp\;&nbsp\;</span><span style="color:rgb(102\, 102\, 102)\; font-family:open sans\,arial\,sans-serif\; font-size:14px">Please watch the theatre website for updates.</span>
LOCATION:Smoky Mountain Center for the Performing Arts 1028 Georgia Road Franklin\, NC 28734
UID:e.1652.40667
SEQUENCE:3
DTSTAMP:20260419T222658Z
URL:https://tourism.golakechatuge.com/events/details/on-a-dream-a-wish-a-royal-celebration-09-11-2021-40667
END:VEVENT

END:VCALENDAR
