BEGIN:VCALENDAR
VERSION:2.0
PRODID:-//ChamberMaster//Event Calendar 2.0//EN
METHOD:PUBLISH
X-PUBLISHED-TTL:P3D
REFRESH-INTERVAL:P3D
CALSCALE:GREGORIAN
BEGIN:VEVENT
DTSTART:20240102T123000Z
DTEND:20240102T150000Z
X-MICROSOFT-CDO-ALLDAYEVENT:FALSE
SUMMARY:New Breakfast Menu at The Oaks Lakeside Kitchen
DESCRIPTION:Enjoy our brand new menu at The Oaks Lakeside Kitchen!
X-ALT-DESC;FMTTYPE=text/html:Enjoy our brand new menu at The Oaks Lakeside Kitchen!
LOCATION:3493 US Highway 76 Hiawassee\, GA 30546
UID:e.1652.44556
SEQUENCE:3
DTSTAMP:20260421T113430Z
URL:https://tourism.golakechatuge.com/events/details/new-breakfast-menu-at-the-oaks-lakeside-kitchen-44556
END:VEVENT

END:VCALENDAR
