BEGIN:VCALENDAR
VERSION:2.0
PRODID:-//ChamberMaster//Event Calendar 2.0//EN
METHOD:PUBLISH
X-PUBLISHED-TTL:P3D
REFRESH-INTERVAL:P3D
CALSCALE:GREGORIAN
BEGIN:VEVENT
DTSTART;VALUE=DATE:20240524
DTEND;VALUE=DATE:20240528
TRANSP:TRANSPARENT
X-MICROSOFT-CDO-ALLDAYEVENT:TRUE
SUMMARY:Memorial Day Weekend at The Ridges Resort
DESCRIPTION:Memorial Day Weekend is right around the corner and we have a lot of fun things planned around the property! Enjoy live music at Marina Station and jump into fun at Marina Station Water Park. Stop by both The Oaks Lakeside Kitchen and Marina Station where military personnel can enjoy a 15% discount on their food\, and on Monday\, May 27th\, we'll be offering free dessert at Marina Station for our military heroes as a small token of our appreciation for the all sacrifices you have made!  Also enjoy special nightly rates at The Ridges Resort all weekend long\, as well as a military discount if you are or have served in the military!
X-ALT-DESC;FMTTYPE=text/html:Memorial Day Weekend is right around the corner and we have a lot of fun things planned around the property! Enjoy live music at Marina Station and jump into fun at Marina Station Water Park. Stop by both The Oaks Lakeside Kitchen and Marina&nbsp\;Station where military personnel can enjoy a 15% discount on their food\, and on Monday\, May 27th\, we&#39\;ll be offering free dessert at Marina Station for our military heroes as a small token of our appreciation for the all sacrifices you have made!&nbsp\;&nbsp\;Also enjoy special nightly rates at The Ridges Resort all weekend long\, as well as a military discount if you are or have served in the military!&nbsp\;
LOCATION:The Ridges Resort 3499 US-76 W Hiawassee\, GA 30546
UID:e.1652.46305
SEQUENCE:3
DTSTAMP:20260421T021856Z
URL:https://tourism.golakechatuge.com/events/details/memorial-day-weekend-at-the-ridges-resort-46305
END:VEVENT

END:VCALENDAR
