BEGIN:VCALENDAR
VERSION:2.0
PRODID:-//ChamberMaster//Event Calendar 2.0//EN
METHOD:PUBLISH
X-PUBLISHED-TTL:P3D
REFRESH-INTERVAL:P3D
CALSCALE:GREGORIAN
BEGIN:VEVENT
DTSTART:20240527T150000Z
DTEND:20240527T160000Z
X-MICROSOFT-CDO-ALLDAYEVENT:FALSE
SUMMARY:Memorial Day Service 2024
DESCRIPTION:Memorial Day Service\n\nCome and honor our military veterans of America - "Freedom Givers"\,past\, present and future. \n\nMonday\, May 27\, 2024 at 11 AM\n\nFor more information call 706-970-0195
X-ALT-DESC;FMTTYPE=text/html:Memorial Day Service<br />\nCome and honor our military veterans of America - &quot\;Freedom Givers&quot\;\,past\, present and future.&nbsp\;<br />\nMonday\, May 27\, 2024 at 11 AM<br />\nFor more information call 706-970-0195
LOCATION:Veterans Park 1400 US-76 Hiawassee\, GA 30546
UID:e.1652.46311
SEQUENCE:3
DTSTAMP:20260421T021706Z
URL:https://tourism.golakechatuge.com/events/details/memorial-day-service-2024-46311
END:VEVENT

END:VCALENDAR
