BEGIN:VCALENDAR
VERSION:2.0
PRODID:-//ChamberMaster//Event Calendar 2.0//EN
METHOD:PUBLISH
X-PUBLISHED-TTL:P3D
REFRESH-INTERVAL:P3D
CALSCALE:GREGORIAN
BEGIN:VEVENT
DTSTART:20240518T150000Z
DTEND:20240518T190000Z
X-MICROSOFT-CDO-ALLDAYEVENT:FALSE
SUMMARY:Market Mutts
DESCRIPTION:Fundraiser for Mountain Shelter \n\n*Low Cost Vaccine Clinic        *Food Trucks & Food Vendors    *Free Giveaways    *Live Band\n\n*$10 Microchips                        *Pets Allowed on Leash             *Local Vendors and Much More!!
X-ALT-DESC;FMTTYPE=text/html:Fundraiser for Mountain Shelter&nbsp\;<br />\n*Low Cost Vaccine Clinic&nbsp\;&nbsp\;&nbsp\;&nbsp\;&nbsp\; &nbsp\; *Food Trucks &amp\; Food Vendors&nbsp\; &nbsp\; *Free Giveaways&nbsp\; &nbsp\; *Live Band<br />\n*$10 Microchips&nbsp\;&nbsp\;&nbsp\;&nbsp\;&nbsp\;&nbsp\;&nbsp\;&nbsp\;&nbsp\;&nbsp\;&nbsp\;&nbsp\;&nbsp\;&nbsp\;&nbsp\;&nbsp\;&nbsp\;&nbsp\;&nbsp\;&nbsp\;&nbsp\;&nbsp\; &nbsp\;*Pets Allowed on Leash&nbsp\;&nbsp\;&nbsp\;&nbsp\;&nbsp\;&nbsp\;&nbsp\;&nbsp\;&nbsp\;&nbsp\; &nbsp\; *Local Vendors and Much More!!&nbsp\;
LOCATION:Union County Farmer's Market
UID:e.1652.45885
SEQUENCE:3
DTSTAMP:20260421T021612Z
URL:https://tourism.golakechatuge.com/events/details/market-mutts-45885
END:VEVENT

END:VCALENDAR
