BEGIN:VCALENDAR
VERSION:2.0
PRODID:-//ChamberMaster//Event Calendar 2.0//EN
METHOD:PUBLISH
X-PUBLISHED-TTL:P3D
REFRESH-INTERVAL:P3D
CALSCALE:GREGORIAN
BEGIN:VEVENT
DTSTART:20210916T233000Z
DTEND:20210917T010000Z
X-MICROSOFT-CDO-ALLDAYEVENT:FALSE
SUMMARY:Jeff Allen Comedy: The America I Grew Up In Tour
DESCRIPTION:Jeff Allen is a favorite with families of every generation across the country. Performing comedy for over three decades\, Jeff Allen's work has been seen on every cable comedy show in the U.S. including Comedy Central's Premium Blend and VH1's Standup Spotlight. His one-hour special\, "Happy Wife\, Happy Life" aired on the Odyssey Channel and Family Net. He's been featured on the Grand Ole Opry\, the U.S. Comedy Arts Festival in Aspen and the Montreal "Just for Laughs" International Comedy Festival   the world's most prestigious comedy venues. Jeff Allen is regarded as one of the premiere clean comedians working today. Most of his humor centers on marriage\, living with teenagers and American\, before we all went crazy  material to which everyone can relate\, confirmed by his over 10 million views on Youtube. The humor he packs into his performance comes rapid-fire\, and doesn't stop until the end.\n\n"Jeff has become a master of the difficult are of comedy. If an election were held today\, and only comedians were allowed to vote (and not vote for themselves)\, Jeff would win in a landslide."   Andy Andrews\, NY Times Best-Selling Author
X-ALT-DESC;FMTTYPE=text/html:<p>Jeff Allen is a favorite with families of every generation across the country. Performing comedy for over three decades\, Jeff Allen&rsquo\;s work has been seen on every cable comedy show in the U.S. including Comedy Central&rsquo\;s Premium Blend and VH1&rsquo\;s Standup Spotlight. His one-hour special\, &ldquo\;Happy Wife\, Happy Life&rdquo\; aired on the Odyssey Channel and Family Net. He&rsquo\;s been featured on the Grand Ole Opry\, the U.S. Comedy Arts Festival in Aspen and the Montreal &ldquo\;Just for Laughs&rdquo\; International Comedy Festival &ndash\; the world&rsquo\;s most prestigious comedy venues. Jeff Allen is regarded as one of the premiere clean comedians working today. Most of his humor centers on marriage\, living with teenagers and American\, before we all went crazy&ndash\; material to which everyone can relate\, confirmed by his over 10 million views on Youtube. The humor he packs into his performance comes rapid-fire\, and doesn&rsquo\;t stop until the end.</p>\n\n<p>&ldquo\;Jeff has become a master of the difficult are of comedy. If an election were held today\, and only comedians were allowed to vote (and not vote for themselves)\, Jeff would win in a landslide.&rdquo\; &ndash\; Andy Andrews\, NY Times Best-Selling Author</p>\n
LOCATION:Smoky Mountain Center for the Performing Arts 1028 Georgia Road Franklin\, NC 28734
UID:e.1652.40668
SEQUENCE:3
DTSTAMP:20260421T090900Z
URL:https://tourism.golakechatuge.com/events/details/jeff-allen-comedy-the-america-i-grew-up-in-tour-40668
END:VEVENT

END:VCALENDAR
