BEGIN:VCALENDAR
VERSION:2.0
PRODID:-//ChamberMaster//Event Calendar 2.0//EN
METHOD:PUBLISH
X-PUBLISHED-TTL:P3D
REFRESH-INTERVAL:P3D
CALSCALE:GREGORIAN
BEGIN:VEVENT
DTSTART:20240525T000000Z
DTEND:20240527T030000Z
X-MICROSOFT-CDO-ALLDAYEVENT:FALSE
SUMMARY:Hiawassee Pro Rodeo
DESCRIPTION:Join us at the Georgia Mountain Fairgrounds for three days of Rodeo fun! Enjoy the best bucking horses\, bulls\, world class contestants from all over the United States and Canada\, and the top-of-the-line specialty acts! This is a family event that will definitely keep you on the edge of your seat with live entertainment!
X-ALT-DESC;FMTTYPE=text/html:<span style="color:black"><span style="font-size:12.0pt">Join us at the Georgia Mountain Fairgrounds for three days of Rodeo fun! Enjoy the best bucking horses\, bulls\, world class contestants from all over the United States and Canada\, and the top-of-the-line specialty acts! This is a family event that will definitely keep you on the edge of your seat with live entertainment!</span></span>
LOCATION:Georgia Mountain Fairgrounds\, Hiawassee
UID:e.1652.44879
SEQUENCE:3
DTSTAMP:20260421T034414Z
URL:https://tourism.golakechatuge.com/events/details/hiawassee-pro-rodeo-05-24-2024-44879
END:VEVENT

END:VCALENDAR
