BEGIN:VCALENDAR
VERSION:2.0
PRODID:-//ChamberMaster//Event Calendar 2.0//EN
METHOD:PUBLISH
X-PUBLISHED-TTL:P3D
REFRESH-INTERVAL:P3D
CALSCALE:GREGORIAN
BEGIN:VEVENT
DTSTART:20211001T210000Z
DTEND:20211002T020000Z
X-MICROSOFT-CDO-ALLDAYEVENT:FALSE
SUMMARY:Hiawassee Night Market
DESCRIPTION:Hiawassee Night Market is a family-friendly\, open-air night artist & artisan market featuring fresh produce\,  food trucks\, games\, and live music. The market will be filled with excitement and fun.  Night Market is the monthly destination for outdoor dining\, shopping\, and entertainment.
X-ALT-DESC;FMTTYPE=text/html:<span style="background-color:rgb(255\, 255\, 255)\; color:rgb(51\, 51\, 51)\; font-family:inherit\; font-size:100%">Hiawassee Night Market is a family-friendly\, open-air night artist &amp\; artisan market featuring fresh produce\,&nbsp\; food trucks\, games\, and live music. The market will be filled with excitement and fun.&nbsp\; Night Market is the monthly destination for outdoor dining\, shopping\, and entertainment.</span><br />\n<br />\n&nbsp\;
LOCATION:Hiawassee Night Market is located on the Town Square at 19 S. Main Street\, Hiawassee GA
UID:e.1652.40315
SEQUENCE:3
DTSTAMP:20260423T205909Z
URL:https://tourism.golakechatuge.com/events/details/hiawassee-night-market-10-01-2021-40315
END:VEVENT

END:VCALENDAR
