BEGIN:VCALENDAR
VERSION:2.0
PRODID:-//ChamberMaster//Event Calendar 2.0//EN
METHOD:PUBLISH
X-PUBLISHED-TTL:P3D
REFRESH-INTERVAL:P3D
CALSCALE:GREGORIAN
BEGIN:VEVENT
DTSTART:20240511T150000Z
DTEND:20240511T210000Z
X-MICROSOFT-CDO-ALLDAYEVENT:FALSE
SUMMARY:Hiawassee Highlands Wine Festival
DESCRIPTION:The Hiawassee Highlands Wine Festival will be on Saturday\, May 11th. Enjoy music by Wyatt Espalin & friends on two stages\, arts and crafts\, food trucks\, and tours of the blooming Hamilton Rhododendron Gardens.
X-ALT-DESC;FMTTYPE=text/html:<span style="color:black"><span style="font-size:12.0pt">The&nbsp\;Hiawassee Highlands Wine Festival will be on Saturday\, May 11th. Enjoy music by Wyatt Espalin &amp\; friends on two stages\,&nbsp\;arts and crafts\, food trucks\, and tours of the&nbsp\;blooming Hamilton Rhododendron Gardens.</span></span>
LOCATION:Georgia Mountain Fairgrounds\, Hiawassee
UID:e.1652.44878
SEQUENCE:3
DTSTAMP:20260421T022258Z
URL:https://tourism.golakechatuge.com/events/details/hiawassee-highlands-wine-festival-05-11-2024-44878
END:VEVENT

END:VCALENDAR
