BEGIN:VCALENDAR
VERSION:2.0
PRODID:-//ChamberMaster//Event Calendar 2.0//EN
METHOD:PUBLISH
X-PUBLISHED-TTL:P3D
REFRESH-INTERVAL:P3D
CALSCALE:GREGORIAN
BEGIN:VEVENT
DTSTART:20260425T150000Z
DTEND:20260425T210000Z
X-MICROSOFT-CDO-ALLDAYEVENT:FALSE
SUMMARY:Hiawassee Highlands Wine Festival
DESCRIPTION:Sip\, stroll\, and savor the beauty of the mountains at the Hiawassee Highlands Wine Festival. Sample wines from 30+ premier regional wineries\, enjoy live music by Wyatt Espalin & friends on two stages\, browse unique artisan goods\, and indulge in tasty bites from local food trucks. Don't miss the chance to wander the Hamilton Rhododendron Gardens at peak bloom!
X-ALT-DESC;FMTTYPE=text/html:<span style="background-color:transparent\; color:rgb(0\, 0\, 0)\; font-family:arial\,sans-serif\; font-size:12pt">Sip\, stroll\, and savor the beauty of the mountains at the Hiawassee Highlands Wine Festival. Sample wines from 30+ premier regional wineries\, enjoy live music by Wyatt Espalin &amp\; friends on two stages\, browse unique artisan goods\, and indulge in tasty bites from local food trucks. Don&#39\;t miss the chance to wander the Hamilton Rhododendron Gardens at peak bloom!</span>
LOCATION:Georgia Mountain Fairgrounds\, Hiawassee
UID:e.1652.50210
SEQUENCE:3
DTSTAMP:20260424T160349Z
URL:https://tourism.golakechatuge.com/events/details/hiawassee-highlands-wine-festival-04-25-2026-50210
END:VEVENT

END:VCALENDAR
