BEGIN:VCALENDAR
VERSION:2.0
PRODID:-//ChamberMaster//Event Calendar 2.0//EN
METHOD:PUBLISH
X-PUBLISHED-TTL:P3D
REFRESH-INTERVAL:P3D
CALSCALE:GREGORIAN
BEGIN:VEVENT
DTSTART:20181031T213000Z
DTEND:20181031T233000Z
X-MICROSOFT-CDO-ALLDAYEVENT:FALSE
SUMMARY:Halloween on the Square in Hiawassee
DESCRIPTION:"Trick or Treat" on the Square in Hiawassee. Dress up in your scariest vampire or prettiest princess costume\, and join us for a stroll around the square while filling your candy buckets. \n\n\n\nBusinesses - Be here early to secure your  space\, first come basis.  Bring table and cloth along with your candy.  Should arrive around 3:30 - 4:00 PM.  If you are unable to participate\, please bring candy donations to the city.
X-ALT-DESC;FMTTYPE=text/html:&quot\;Trick or Treat&quot\; on the Square in Hiawassee. Dress up in your scariest vampire or prettiest princess costume\, and join us for a stroll around the square while filling your candy buckets.&nbsp\;<br />\n<br />\nBusinesses -&nbsp\;Be here early to secure your&nbsp\; space\, first come basis.&nbsp\; Bring table and cloth along with your candy.&nbsp\; Should arrive around 3:30 - 4:00 PM.&nbsp\; If you are unable to participate\, please bring candy donations to the city.
LOCATION:On the Square in Hiawassee - Hwy 76 and River Street
UID:e.1652.32174
SEQUENCE:3
DTSTAMP:20260420T123722Z
URL:https://tourism.golakechatuge.com/events/details/halloween-on-the-square-in-hiawassee-32174
END:VEVENT

END:VCALENDAR
