BEGIN:VCALENDAR
VERSION:2.0
PRODID:-//ChamberMaster//Event Calendar 2.0//EN
METHOD:PUBLISH
X-PUBLISHED-TTL:P3D
REFRESH-INTERVAL:P3D
CALSCALE:GREGORIAN
BEGIN:VEVENT
DTSTART:20230319T183000Z
DTEND:20230319T200000Z
X-MICROSOFT-CDO-ALLDAYEVENT:FALSE
SUMMARY:Gods of Comedy
DESCRIPTION:Two young classics professors have made a discovery that's sure to turn them into academic superstars. But something goes awry and Daphne's cry of panic\, "Save me\, gods of ancient Greece!" makes those gods appear\, but the screwball deities encounter modern college life in Mel Brooksian style.?
X-ALT-DESC;FMTTYPE=text/html:<span style="color:rgb(59\, 69\, 74)\; font-family:var(--font)\; font-size:14px">Two young classics professors have made a discovery that&rsquo\;s sure to turn them into academic superstars. But something goes awry and Daphne&rsquo\;s cry of panic\, &ldquo\;Save me\, gods of ancient Greece!&rdquo\; makes those gods appear\, but the screwball deities encounter modern college life in Mel Brooksian style.</span><span style="color:rgb(59\, 69\, 74)\; font-family:poppins\,helvetica\,sans-serif\; font-size:14px">?</span>
LOCATION:Peacock Performing Arts Center 301 Church St Hayesville\, NC 28904
UID:e.1652.42699
SEQUENCE:3
DTSTAMP:20260424T182535Z
URL:https://tourism.golakechatuge.com/events/details/gods-of-comedy-03-19-2023-42699
END:VEVENT

END:VCALENDAR
