BEGIN:VCALENDAR
VERSION:2.0
PRODID:-//ChamberMaster//Event Calendar 2.0//EN
METHOD:PUBLISH
X-PUBLISHED-TTL:P3D
REFRESH-INTERVAL:P3D
CALSCALE:GREGORIAN
BEGIN:VEVENT
DTSTART:20240525T233000Z
DTEND:20240526T013000Z
X-MICROSOFT-CDO-ALLDAYEVENT:FALSE
SUMMARY:Gnarly Fingers
DESCRIPTION:Gnarly Fingers is a four piece band that specializes in three and four part harmony. They have been entertaining audiences in north Georgia and western North Carolina for nineteen years. They cover The Band\, The Eagles\, Tom Waits\, Butch Hancock\, Guy Clark\, The Steeldrivers\, John Prine\, The Nitty Gritty Dirt Band  in addition to their original music and they're known for their mix of "eclectic acoustic" music from some of the greatest songwriters. Hailing from Hayesville\, NC and Hiawassee\, GA\, the band was formed around the original three vocalists\, Pat List\, Keith Layton and Tom Edwards.
X-ALT-DESC;FMTTYPE=text/html:Gnarly Fingers is a four piece band that specializes in three and four part harmony. They have been entertaining audiences in north Georgia and western North Carolina for nineteen years. They cover The Band\, The Eagles\, Tom Waits\, Butch Hancock\, Guy Clark\, The Steeldrivers\, John Prine\, The Nitty Gritty Dirt Band&hellip\; in addition to their original music and they&rsquo\;re known for their mix of &ldquo\;eclectic acoustic&rdquo\; music from some of the greatest songwriters. Hailing from Hayesville\, NC and Hiawassee\, GA\, the band was formed around the original three vocalists\, Pat List\, Keith Layton and Tom Edwards.
LOCATION:PEACOCK PERFORMING ARTS CENTER 301 Church Street Hayesville\, NC 28904
UID:e.1652.46299
SEQUENCE:3
DTSTAMP:20260421T021611Z
URL:https://tourism.golakechatuge.com/events/details/gnarly-fingers-46299
END:VEVENT

END:VCALENDAR
