BEGIN:VCALENDAR
VERSION:2.0
PRODID:-//ChamberMaster//Event Calendar 2.0//EN
METHOD:PUBLISH
X-PUBLISHED-TTL:P3D
REFRESH-INTERVAL:P3D
CALSCALE:GREGORIAN
BEGIN:VEVENT
DTSTART:20240504T140000Z
DTEND:20240504T200000Z
X-MICROSOFT-CDO-ALLDAYEVENT:FALSE
SUMMARY:Friends and Family Day
DESCRIPTION:We are back and opening our doors again this Spring for our annual Friends and Family Day on Saturday\, May 4th from 10 AM to 4 PM. We hope you'll join us for a fun day at the Folk School! Tour our open studios\, participate in hands-on making\, watch demonstrations\, enjoy music & dance performances\, savor local food\, and learn all about the Folk School. You won't want to miss this day full of energy\, creativity\, and excitement. Stop by the Keith House when you arrive\, and grab a map with a list of locations and activities before you begin.
X-ALT-DESC;FMTTYPE=text/html:<span style="color: rgb(0\, 0\, 0)\; font-family: &quot\;Open Sans&quot\;\, Helvetica\, Arial\, sans-serif\; font-size: 14.6667px\;">We are back and opening our doors again this Spring for our annual Friends and Family Day on Saturday\, May 4th from 10 AM to 4 PM. We hope you&rsquo\;ll join us for a fun day at the Folk School! Tour our open studios\, participate in hands-on making\, watch demonstrations\, enjoy music &amp\; dance performances\, savor local food\, and learn all about the Folk School. You won&rsquo\;t want to miss this day full of energy\, creativity\, and excitement. Stop by the Keith House when you arrive\, and grab a map with a list of locations and activities before you begin.&nbsp\;</span>
LOCATION:John C. Campbell Folk School One Folk School Rd Brasstown\, NC 28902 Grab your maps in Keith House and begin your journey to studios around campus
UID:e.1652.44931
SEQUENCE:3
DTSTAMP:20260421T021901Z
URL:https://tourism.golakechatuge.com/events/details/friends-and-family-day-44931
END:VEVENT

END:VCALENDAR
