BEGIN:VCALENDAR
VERSION:2.0
PRODID:-//ChamberMaster//Event Calendar 2.0//EN
METHOD:PUBLISH
X-PUBLISHED-TTL:P3D
REFRESH-INTERVAL:P3D
CALSCALE:GREGORIAN
BEGIN:VEVENT
DTSTART:20240503T210000Z
DTEND:20240504T010000Z
X-MICROSOFT-CDO-ALLDAYEVENT:FALSE
SUMMARY:First Friday Night Market
DESCRIPTION:First Friday Night Market- Art & Artisan Market \n\n**2024 Night Market Line Up Coming Soon**
X-ALT-DESC;FMTTYPE=text/html:First Friday Night Market- Art &amp\; Artisan Market&nbsp\;<br>\n**2024 Night Market Line Up Coming Soon**&nbsp\;
LOCATION:Hiawassee Town Square
UID:e.1652.45814
SEQUENCE:3
DTSTAMP:20260421T021609Z
URL:https://tourism.golakechatuge.com/events/details/first-friday-night-market-45814
END:VEVENT

END:VCALENDAR
