BEGIN:VCALENDAR
VERSION:2.0
PRODID:-//ChamberMaster//Event Calendar 2.0//EN
METHOD:PUBLISH
X-PUBLISHED-TTL:P3D
REFRESH-INTERVAL:P3D
CALSCALE:GREGORIAN
BEGIN:VEVENT
DTSTART:20230929T120000Z
DTEND:20230930T190000Z
X-MICROSOFT-CDO-ALLDAYEVENT:FALSE
SUMMARY:Fall Yard Sale
DESCRIPTION:One man's trash is another man's treasure - and there will be hundreds of treasures available to shop and browse. Come join us! Free entry to shoppers!
X-ALT-DESC;FMTTYPE=text/html:<span style="color:black"><span style="font-size:10.5pt">One man&#39\;s trash is another man&#39\;s treasure - and there will be hundreds of treasures available to shop and browse. Come join us! Free entry to shoppers!&nbsp\;</span></span>
LOCATION:Georgia Mountain Fairgrounds\, Hiawassee
UID:e.1652.44423
SEQUENCE:3
DTSTAMP:20260425T154311Z
URL:https://tourism.golakechatuge.com/events/details/fall-yard-sale-44423
END:VEVENT

END:VCALENDAR
