BEGIN:VCALENDAR
VERSION:2.0
PRODID:-//ChamberMaster//Event Calendar 2.0//EN
METHOD:PUBLISH
X-PUBLISHED-TTL:P3D
REFRESH-INTERVAL:P3D
CALSCALE:GREGORIAN
BEGIN:VEVENT
DTSTART:20240511T230000Z
DTEND:20240512T020000Z
X-MICROSOFT-CDO-ALLDAYEVENT:FALSE
SUMMARY:Deana Carter
DESCRIPTION:Drenched in sun-kissed natural beauty both inside and out\, Nashville native\, Deana Carter\, took a seemingly easy route to stardom but instead chose to defy the typical Nashville artist blueprint and make her mark. And she did\, taking the industry and fans by storm with her wildly successful multi-platinum international debut "Did I Shave My Legs For This?" more than two decades ago. Anchored by the dreamy super hit " Strawberry Wine"\, Carter showcased her blend of country and retro-rock sprinkled with the folksy singer/songwriter qualities that have garnered Deana Carter well-deserved respect and wild acclaim.\n\n \n\nHer debut album\, "Did I Shave My Legs For This?" boasts six songs co-written and with the album co-produced by Carter\, was released to strong reviews in late summer 1996. By the end of the year\, the record had climbed to the top of both the country and pop charts\, quickly achieving multi-platinum status\, with 3 number one singles in a row. A "first" for the genre\, Deana's celebrated debut album held this distinction and many ground breaking achievements for more than 5 years and has become one of Country Music's most treasured classics of the 90's.
X-ALT-DESC;FMTTYPE=text/html:<span style="color:black"><span style="font-size:12.0pt">Drenched in sun-kissed natural beauty both inside and out\, Nashville native\, Deana Carter\, took a seemingly easy route to stardom but instead chose to defy the typical Nashville artist blueprint and make her mark. And she did\, taking the industry and fans by storm with her wildly successful multi-platinum international debut &ldquo\;Did I Shave My Legs For This?&rdquo\; more than two decades ago. Anchored by the dreamy super hit &rdquo\; Strawberry Wine&rdquo\;\, Carter showcased her blend of country and retro-rock sprinkled with the folksy singer/songwriter qualities that have garnered Deana Carter well-deserved respect and wild acclaim.</span></span><br />\n&nbsp\;<br />\n<span style="color:black"><span style="font-size:12.0pt">Her debut album\, &ldquo\;Did I Shave My Legs For This?&rdquo\; boasts six songs co-written and with the album co-produced by Carter\, was released to strong reviews in late summer 1996. By the end of the year\, the record had climbed to the top of both the country and pop charts\, quickly achieving multi-platinum status\, with 3 number one singles in a row. A &ldquo\;first&rdquo\; for the genre\, Deana&#39\;s celebrated debut album held this distinction and many ground breaking achievements for more than 5 years and has become one of Country Music&#39\;s most treasured classics of the 90&#39\;s.</span></span>
LOCATION:Georgia Mountain Fairgrounds\, Hiawassee
UID:e.1652.44956
SEQUENCE:3
DTSTAMP:20260421T021603Z
URL:https://tourism.golakechatuge.com/events/details/deana-carter-44956
END:VEVENT

END:VCALENDAR
