BEGIN:VCALENDAR
VERSION:2.0
PRODID:-//ChamberMaster//Event Calendar 2.0//EN
METHOD:PUBLISH
X-PUBLISHED-TTL:P3D
REFRESH-INTERVAL:P3D
CALSCALE:GREGORIAN
BEGIN:VEVENT
DTSTART;VALUE=DATE:20230901
DTEND;VALUE=DATE:20230903
TRANSP:TRANSPARENT
X-MICROSOFT-CDO-ALLDAYEVENT:TRUE
SUMMARY:Church Yard Sale and Bake Sale
DESCRIPTION:Flea Market Style Church Yard Sale and Bake Sale\n\nFriday and Saturday 9/1 - 9/2 from 8 am to 3 pm\n\nHiawassee UMC
X-ALT-DESC;FMTTYPE=text/html:Flea Market Style Church Yard Sale and Bake Sale<br />\nFriday and Saturday 9/1 - 9/2 from 8 am to 3 pm<br />\nHiawassee UMC
LOCATION:Hiawassee United Methodist Church 1139 US Hwy. 76 west\, Hiawassee GA on the hill by the fairgrounds
UID:e.1652.44362
SEQUENCE:3
DTSTAMP:20260420T223757Z
URL:https://tourism.golakechatuge.com/events/details/church-yard-sale-and-bake-sale-09-01-2023-44362
END:VEVENT

END:VCALENDAR
