BEGIN:VCALENDAR
VERSION:2.0
PRODID:-//ChamberMaster//Event Calendar 2.0//EN
METHOD:PUBLISH
X-PUBLISHED-TTL:P3D
REFRESH-INTERVAL:P3D
CALSCALE:GREGORIAN
BEGIN:VEVENT
DTSTART:20240514T213000Z
DTEND:20240514T223000Z
X-MICROSOFT-CDO-ALLDAYEVENT:FALSE
SUMMARY:Business After Hours - May 2024
DESCRIPTION:Join the Lake Chatuge Chamber of Commerce for Business After Hours at United Community Bank in Hiawassee. This is a great opportunity to network with other members. Bring your business card and a gift for door prizes!
X-ALT-DESC;FMTTYPE=text/html:Join the Lake Chatuge Chamber of Commerce for Business After Hours at United Community Bank in Hiawassee. This is a great opportunity to network with other members. Bring your business card and a gift for door prizes!
LOCATION:United Community Bank 214 North Main Street Hiawassee\, GA 30546
UID:e.1652.45892
SEQUENCE:3
DTSTAMP:20260421T021707Z
URL:https://tourism.golakechatuge.com/events/details/business-after-hours-may-2024-45892
END:VEVENT

END:VCALENDAR
