BEGIN:VCALENDAR
VERSION:2.0
PRODID:-//ChamberMaster//Event Calendar 2.0//EN
METHOD:PUBLISH
X-PUBLISHED-TTL:P3D
REFRESH-INTERVAL:P3D
CALSCALE:GREGORIAN
BEGIN:VEVENT
DTSTART:20211003T120000Z
DTEND:20211003T210000Z
X-MICROSOFT-CDO-ALLDAYEVENT:FALSE
SUMMARY:Annual Georgia Mountain Pickleball Fall Classic
DESCRIPTION:Come and see what this game is all about and watch some great pickleball during the 6th Annual Georgia Mountain Pickleball Fall Classic Tournament\, hosted by Georgia Mountain Pickleball and Towns County.  About 350 players from all over the country will be competing in this major tournament\, which will feature some of the top players in the area.  Just bring a comfortable chair and some sunscreen as there's no admission charge.
X-ALT-DESC;FMTTYPE=text/html:Come and see what this game is all about and watch some great pickleball during the 6th Annual Georgia Mountain Pickleball Fall Classic Tournament\, hosted by Georgia Mountain Pickleball and Towns County.&nbsp\; About 350 players from all over the country will be competing in this major tournament\, which will feature some of the top players in the area.&nbsp\; Just bring a comfortable chair and some sunscreen as there&#39\;s no admission charge.
LOCATION:Towns County Pickleball Complex 800 U.S. Highway 76 Hiawassee\, GA 30546 (Located Across from the Georgia Mountain Fairgrounds)
UID:e.1652.40952
SEQUENCE:3
DTSTAMP:20260419T174916Z
URL:https://tourism.golakechatuge.com/events/details/annual-georgia-mountain-pickleball-fall-classic-10-03-2021-40952
END:VEVENT

END:VCALENDAR
